BEGIN:VCALENDAR
VERSION:2.0
PRODID:-//eventon.com NONSGML v1.0//EN
CALSCALE:GREGORIAN
METHOD:PUBLISH
BEGIN:VEVENT
UID:69e57cef56579
DTSTAMP:20260420T011007Z
DTSTART:20250102
DTEND:20250103
LOCATION:
SUMMARY:Lancement de la bière du mois LA BONANÉ 👑
DESCRIPTION:Craquez pour la gourmandise de notre Double Belge à l'amande !
  🍺 Avec ses notes gourmandes d'amande\,  de noix caramélisée et de liq
 ueur d'amaretto\,  c'est un voyage direct au cœur de la frangipane de la g
 alette des rois. 👑🤤 Bonané ! Au lieu de le dire partout\,  trinquez 
 ou offrez-la[..]\nhttps://www.3brasseurs-cite-europe-coquelles.fr/events/la
 ncement-de-la-biere-du-mois-la-bonane-%f0%9f%91%91/
URL:https://www.3brasseurs-cite-europe-coquelles.fr/events/lancement-de-la-biere-du-mois-la-bonane-%f0%9f%91%91/
END:VEVENT
END:VCALENDAR